BEGIN:VCALENDAR
PRODID:-//64.20.38.219//NONSGML iCalcreator 2.6//
VERSION:2.0
BEGIN:VEVENT
UID:20260419T174449CEST-12188KOzcB@64.20.38.219
DTSTAMP:20260419T154449Z
CATEGORIES:Great Success College of Health Sciences and Technology\, Gwada 
 Events
DESCRIPTION:
DTSTART:20210717T000000
DTEND:20210717T000000
LOCATION:Federal College of Education (Techincal) Bichi FCE Bichi Road\, Bi
 chi LGA
SUMMARY:Graduation Ceremony
END:VEVENT
END:VCALENDAR
